BEGIN:VCALENDAR
VERSION:2.0
PRODID:-//SBDC Hosted by Long Beach City - ECPv5.0.2.1//NONSGML v1.0//EN
CALSCALE:GREGORIAN
METHOD:PUBLISH
X-WR-CALNAME:SBDC Hosted by Long Beach City
X-ORIGINAL-URL:https://longbeachsbdc.org
X-WR-CALDESC:Events for SBDC Hosted by Long Beach City
BEGIN:VTIMEZONE
TZID:America/Los_Angeles
BEGIN:DAYLIGHT
TZOFFSETFROM:-0800
TZOFFSETTO:-0700
TZNAME:PDT
DTSTART:20220313T100000
END:DAYLIGHT
BEGIN:STANDARD
TZOFFSETFROM:-0700
TZOFFSETTO:-0800
TZNAME:PST
DTSTART:20221106T090000
END:STANDARD
END:VTIMEZONE
BEGIN:VEVENT
DTSTART;TZID=America/Los_Angeles:20220120T100000
DTEND;TZID=America/Los_Angeles:20220120T110000
DTSTAMP:20260425T121144
CREATED:20211210T185708Z
LAST-MODIFIED:20211210T185708Z
UID:3585-1642672800-1642676400@longbeachsbdc.org
SUMMARY:Business Finance Literacy 101 (Class 2 of 2)
DESCRIPTION:Business owners struggle with business decisions that affect the financial health of their company. Are we selling at the right price? Are we making money? Can we afford to hire someone? \nMany times\, these decisions are made without a thorough understanding of the financial implications. This does not need to be the case. There are simple mathematical calculations that can be used to answer key business questions. \nPerformance Measurements are simple mathematical calculations that can be used to monitor sales\, overhead and profitability. They can be applied to any business\, independent of size and scope. This session will teach you how to calculate performance measurements for your company.\n \n \nIn this session you will learn:\n• How to use financial calculations to manage your company\n• How the company’s financials can be used to make key business decisions\n• How performance measurements can be used to forecast sales\, cost and make hiring decisions\n• How to address issues such as drop in sales\, increase in expenses or other company disasters \n\nREGISTER NOW \n
URL:https://longbeachsbdc.org/workshop/business-finance-literacy-101-class-2-of-2/
LOCATION:Webinar – Long Beach\, CA
CATEGORIES:Accounting
ATTACH;FMTTYPE=image/jpeg:https://longbeachsbdc.org/wp-content/uploads/sites/3/2021/03/oldcalculator-scaled-e1614645098948.jpg
ORGANIZER;CN="SBDC%20hosted%20by%20Long%20Beach%20City%20College":MAILTO:drosenfeld@lbcc.edu
END:VEVENT
END:VCALENDAR