BEGIN:VCALENDAR
VERSION:2.0
PRODID:-//SBDC Hosted by Long Beach City - ECPv5.0.2.1//NONSGML v1.0//EN
CALSCALE:GREGORIAN
METHOD:PUBLISH
X-WR-CALNAME:SBDC Hosted by Long Beach City
X-ORIGINAL-URL:https://longbeachsbdc.org
X-WR-CALDESC:Events for SBDC Hosted by Long Beach City
BEGIN:VTIMEZONE
TZID:America/Los_Angeles
BEGIN:DAYLIGHT
TZOFFSETFROM:-0800
TZOFFSETTO:-0700
TZNAME:PDT
DTSTART:20250309T100000
END:DAYLIGHT
BEGIN:STANDARD
TZOFFSETFROM:-0700
TZOFFSETTO:-0800
TZNAME:PST
DTSTART:20251102T090000
END:STANDARD
END:VTIMEZONE
BEGIN:VEVENT
DTSTART;TZID=America/Los_Angeles:20250506T090000
DTEND;TZID=America/Los_Angeles:20250506T100000
DTSTAMP:20260422T090748
CREATED:20250430T050947Z
LAST-MODIFIED:20250430T050947Z
UID:4671-1746522000-1746525600@longbeachsbdc.org
SUMMARY:Business Finance Literacy Series [Session 1 of 3] What You Need To Know About Accounting And Financial Record Keeping
DESCRIPTION:How to handle the accounting and financial record keeping is one of the most difficult decisions company owners make. They ask questions such as: Should we use QuickBooks online\, QuickBooks desktop or some other program? What records do we need to keep for tax reporting? Should we hire someone to do our bookkeeping? What is the difference between a bookkeeper\, accountant and CPA? How do we know we are hiring the right person? \nUnfortunately\, too many small business owners do not properly manage their company’s finances. They use accounting software without fully understanding the processes or blindly trusting others. This leads to costly mistakes and tax filing issues. \nIn this session we will cover the basics of accounting: what you need to record and why. You will learn what information is required for tax filling. \nThis webinar is taught by Lori Williams\, who has an extensive background in finance working as a CFO turnaround consultant\, banker and professor. She is known as the “guru of all numbers”. \nREGISTER NOW \n
URL:https://longbeachsbdc.org/workshop/business-finance-literacy-series-session-1-of-3-what-you-need-to-know-about-accounting-and-financial-record-keeping-19/
LOCATION:Webinar – Long Beach\, CA
CATEGORIES:Accounting,Finance,Quickbooks,Taxes
ATTACH;FMTTYPE=image/png:https://longbeachsbdc.org/wp-content/uploads/sites/3/2024/11/profit-44.png
ORGANIZER;CN="SBDC%20hosted%20by%20Long%20Beach%20City%20College":MAILTO:drosenfeld@lbcc.edu
END:VEVENT
END:VCALENDAR