BEGIN:VCALENDAR
VERSION:2.0
PRODID:-//SBDC Hosted by Long Beach City - ECPv5.0.2.1//NONSGML v1.0//EN
CALSCALE:GREGORIAN
METHOD:PUBLISH
X-WR-CALNAME:SBDC Hosted by Long Beach City
X-ORIGINAL-URL:https://longbeachsbdc.org
X-WR-CALDESC:Events for SBDC Hosted by Long Beach City
BEGIN:VTIMEZONE
TZID:America/Los_Angeles
BEGIN:DAYLIGHT
TZOFFSETFROM:-0800
TZOFFSETTO:-0700
TZNAME:PDT
DTSTART:20200308T100000
END:DAYLIGHT
BEGIN:STANDARD
TZOFFSETFROM:-0700
TZOFFSETTO:-0800
TZNAME:PST
DTSTART:20201101T090000
END:STANDARD
END:VTIMEZONE
BEGIN:VEVENT
DTSTART;TZID=America/Los_Angeles:20201118T140000
DTEND;TZID=America/Los_Angeles:20201118T151500
DTSTAMP:20260422T120055
CREATED:20201019T175927Z
LAST-MODIFIED:20201021T194322Z
UID:3223-1605708000-1605712500@longbeachsbdc.org
SUMMARY:Live Q&A: All About Social Media For Your Business
DESCRIPTION:Are you overwhelmed by Social Media marketing? Are you posting but not seeing likes convert to sales? Join the Long Beach SBDC for our Live Social Media Q&A\, addressing questions on how to effectively use social media to grow your business. SBDC Marketing and Social Media advisor Deborah Deras\, and Brad Pollak\, Director of the Long Beach SBDC\, will interact live with the audience via Zoom and answer questions covering a broad range of social media topics including how to clarify social media marketing goals\, how to structure your messaging\, which social media platforms to be on\, how to schedule posts on various platforms\, where to find great content\, and more. \n\nREGISTER NOW \n
URL:https://longbeachsbdc.org/workshop/live-qa-all-about-social-media-for-your-business-2/
LOCATION:Webinar – Long Beach\, CA
CATEGORIES:Social Media
ATTACH;FMTTYPE=image/jpeg:https://longbeachsbdc.org/wp-content/uploads/sites/3/2020/05/instagram-e1598913420387.jpg
ORGANIZER;CN="SBDC%20hosted%20by%20Long%20Beach%20City%20College":MAILTO:drosenfeld@lbcc.edu
END:VEVENT
END:VCALENDAR