BEGIN:VCALENDAR
VERSION:2.0
PRODID:-//SBDC Hosted by Long Beach City - ECPv5.0.2.1//NONSGML v1.0//EN
CALSCALE:GREGORIAN
METHOD:PUBLISH
X-WR-CALNAME:SBDC Hosted by Long Beach City
X-ORIGINAL-URL:https://longbeachsbdc.org
X-WR-CALDESC:Events for SBDC Hosted by Long Beach City
BEGIN:VTIMEZONE
TZID:America/Los_Angeles
BEGIN:DAYLIGHT
TZOFFSETFROM:-0800
TZOFFSETTO:-0700
TZNAME:PDT
DTSTART:20260308T100000
END:DAYLIGHT
BEGIN:STANDARD
TZOFFSETFROM:-0700
TZOFFSETTO:-0800
TZNAME:PST
DTSTART:20261101T090000
END:STANDARD
END:VTIMEZONE
BEGIN:VEVENT
DTSTART;TZID=America/Los_Angeles:20260304T150000
DTEND;TZID=America/Los_Angeles:20260304T170000
DTSTAMP:20260422T103106
CREATED:20260221T175330Z
LAST-MODIFIED:20260221T175330Z
UID:4982-1772636400-1772643600@longbeachsbdc.org
SUMMARY:Turning Your Dream Into A Business
DESCRIPTION:This class will help you take the first steps to become a new business owner or legitimize a side hustle or hobby. \nIn this class we will help you:\n–Figure out what you don’t know\n–Define your basic business model\n–Outline the basic steps of setting up your entity and bank account\n–Figure out the appropriate licenses\, permits and insurances\n–Understand available funding strategies\n–Begin to form your basic business plan \nREGISTER NOW \n
URL:https://longbeachsbdc.org/workshop/turning-your-dream-into-a-business-47/
LOCATION:Webinar
CATEGORIES:Launching a New Business
ATTACH;FMTTYPE=image/png:https://longbeachsbdc.org/wp-content/uploads/sites/3/2024/01/Untitled-design-26.png
ORGANIZER;CN="SBDC%20hosted%20by%20Long%20Beach%20City%20College":MAILTO:drosenfeld@lbcc.edu
END:VEVENT
END:VCALENDAR